BEGIN:VCALENDAR
VERSION:2.0
PRODID:-//Tukios.com/
BEGIN:VEVENT
UID:10334077-4f2c-4538-80fe-da5368dbf9ec@www.jamesmaneval.com
DTSTAMP:20260420T182100Z
DTSTART:20260422T220000Z
DTEND:20260423T000000Z
SUMMARY:Viewing
DESCRIPTION:
URL:https://www.jamesmaneval.com/obituaries/roberta-mccloskey
LOCATION:Maneval Allen Redmond Funeral Home 500 West 4th Street  
	Williamsport PA 17701
GEO:41.2442017;-77.0073058
END:VEVENT
END:VCALENDAR