BEGIN:VCALENDAR
VERSION:2.0
PRODID:-//Tukios.com/
BEGIN:VEVENT
UID:7bce1300-d4b5-4b62-97ed-da7ae62745cc@www.jamesmaneval.com
DTSTAMP:20260420T181555Z
DTSTART:20260423T140000Z
DTEND:20260423T150000Z
SUMMARY:Viewing
DESCRIPTION:
URL:https://www.jamesmaneval.com/obituaries/roberta-mccloskey
LOCATION:Maneval Allen Redmond Funeral Home 500 West 4th Street  
	Williamsport PA 17701
GEO:41.2442017;-77.0073058
END:VEVENT
END:VCALENDAR