BEGIN:VCALENDAR
VERSION:2.0
PRODID:-//Tukios.com/
BEGIN:VEVENT
UID:0eb9c705-cb73-4d7f-a16e-2842119b8f29@www.jamesmaneval.com
DTSTAMP:20260420T182420Z
DTSTART:20260423T150000Z
DTEND:20260423T160000Z
SUMMARY:Celebration of Life
DESCRIPTION:
URL:https://www.jamesmaneval.com/obituaries/roberta-mccloskey
LOCATION:Maneval Allen Redmond Funeral Home 500 West 4th Street  
	Williamsport PA 17701
GEO:41.2442017;-77.0073058
END:VEVENT
END:VCALENDAR