BEGIN:VCALENDAR
VERSION:2.0
PRODID:-//Tukios.com/
BEGIN:VEVENT
UID:e7eb2dbc-0cbf-4ab7-a4ce-f1e6a702b4e1@www.jamesmaneval.com
DTSTAMP:20260422T061654Z
DTSTART:20260425T170000Z
DTEND:20260425T180000Z
SUMMARY:Celebration of Life
DESCRIPTION:
URL:https://www.jamesmaneval.com/obituaries/sharon-liddic
LOCATION:Maneval Allen Redmond Cremation and Funeral Home 500 W 4th St  
	Williamsport PA 17701
GEO:41.2403469;-77.0105151
END:VEVENT
END:VCALENDAR