BEGIN:VCALENDAR
VERSION:2.0
PRODID:-//Tukios.com/
BEGIN:VEVENT
UID:9ec331ce-bcb4-496c-a7e2-275e842ed557@www.jamesmaneval.com
DTSTAMP:20260422T062735Z
DTSTART:20260425T160000Z
DTEND:20260425T170000Z
SUMMARY:Viewing
DESCRIPTION:
URL:https://www.jamesmaneval.com/obituaries/sharon-liddic
LOCATION:Maneval Allen Redmond Cremation and Funeral Home 500 W 4th St  
	Williamsport PA 17701
GEO:41.2403469;-77.0105151
END:VEVENT
END:VCALENDAR